Workbook

Sheet Resumen
A1: Bonos y pagos
A3: Total pendiente de cobro | B3: =SUM(Bonos!I:I)
A4: Bonos con 1 sesión restante | B4: =COUNTIF(Bonos!K:K,1)
A6: 1. En Clientes, apunta a tus clientes. Las celdas en gris son ejemplos: vacíalas (en Bonos, solo A a H), no borres filas.
A7: 2. En Bonos, una fila por bono vendido. En Sesiones, una fila por sesión: elige el bono y el estado.
A8: 3. Pendiente, usadas y restantes se calculan solas. Cuentan como usadas las Hechas y las Faltas sin avisar.
A10: Hecho por Katen · katen.es — o deja que Katen lo haga solo

Sheet Clientes
A1: Cliente | B1: Teléfono | C1: Email | D1: Notas
A2: Laura Gómez | B2: 600 000 001 | C2: laura@ejemplo.com | D2: Ejemplo: vacía estas celdas y escribe tus clientes
A3: Marcos Ruiz | B3: 600 000 002 | C3: marcos@ejemplo.com | D3: Ejemplo: vacía estas celdas y escribe tus clientes
A4: Ana Pérez | B4: 600 000 003 | C4: ana@ejemplo.com | D4: Ejemplo: vacía estas celdas y escribe tus clientes
A5: Pablo Sanz | B5: 600 000 004 | C5: pablo@ejemplo.com | D5: Ejemplo: vacía estas celdas y escribe tus clientes
A6: Sara Díaz | B6: 600 000 005 | C6: sara@ejemplo.com | D6: Ejemplo: vacía estas celdas y escribe tus clientes

Sheet Bonos
A1: Bono nº | B1: Cliente | C1: Tipo de bono | D1: Sesiones incluidas | E1: Fecha de compra | F1: Caduca (opcional) | G1: Precio | H1: Pagado | I1: Pendiente | J1: Sesiones usadas | K1: Sesiones restantes
A2: B-001 | B2: Laura Gómez | C2: Ejemplo: bono 10 sesiones | D2: 10 | E2: 46266 | F2: 46357 | G2: 300 | H2: 300 | I2: =IF(A2="","",MAX(0,G2-H2)) | J2: =IF(A2="","",COUNTIFS(Sesiones!$A:$A,A2,Sesiones!$C:$C,"Hecha")+COUNTIFS(Sesiones!$A:$A,A2,Sesiones!$C:$C,"Falta sin avisar")) | K2: =IF(OR(A2="",D2=""),"",D2-J2)
A3: B-002 | B3: Marcos Ruiz | C3: Ejemplo: bono 10 sesiones | D3: 10 | E3: 46275 | G3: 300 | H3: 150 | I3: =IF(A3="","",MAX(0,G3-H3)) | J3: =IF(A3="","",COUNTIFS(Sesiones!$A:$A,A3,Sesiones!$C:$C,"Hecha")+COUNTIFS(Sesiones!$A:$A,A3,Sesiones!$C:$C,"Falta sin avisar")) | K3: =IF(OR(A3="",D3=""),"",D3-J3)
A4: B-003 | B4: Ana Pérez | C4: Ejemplo: bono 5 sesiones | D4: 5 | E4: 46280 | G4: 160 | H4: 0 | I4: =IF(A4="","",MAX(0,G4-H4)) | J4: =IF(A4="","",COUNTIFS(Sesiones!$A:$A,A4,Sesiones!$C:$C,"Hecha")+COUNTIFS(Sesiones!$A:$A,A4,Sesiones!$C:$C,"Falta sin avisar")) | K4: =IF(OR(A4="",D4=""),"",D4-J4)
I5: =IF(A5="","",MAX(0,G5-H5)) | J5: =IF(A5="","",COUNTIFS(Sesiones!$A:$A,A5,Sesiones!$C:$C,"Hecha")+COUNTIFS(Sesiones!$A:$A,A5,Sesiones!$C:$C,"Falta sin avisar")) | K5: =IF(OR(A5="",D5=""),"",D5-J5)
I6: =IF(A6="","",MAX(0,G6-H6)) | J6: =IF(A6="","",COUNTIFS(Sesiones!$A:$A,A6,Sesiones!$C:$C,"Hecha")+COUNTIFS(Sesiones!$A:$A,A6,Sesiones!$C:$C,"Falta sin avisar")) | K6: =IF(OR(A6="",D6=""),"",D6-J6)
I7: =IF(A7="","",MAX(0,G7-H7)) | J7: =IF(A7="","",COUNTIFS(Sesiones!$A:$A,A7,Sesiones!$C:$C,"Hecha")+COUNTIFS(Sesiones!$A:$A,A7,Sesiones!$C:$C,"Falta sin avisar")) | K7: =IF(OR(A7="",D7=""),"",D7-J7)
I8: =IF(A8="","",MAX(0,G8-H8)) | J8: =IF(A8="","",COUNTIFS(Sesiones!$A:$A,A8,Sesiones!$C:$C,"Hecha")+COUNTIFS(Sesiones!$A:$A,A8,Sesiones!$C:$C,"Falta sin avisar")) | K8: =IF(OR(A8="",D8=""),"",D8-J8)
I9: =IF(A9="","",MAX(0,G9-H9)) | J9: =IF(A9="","",COUNTIFS(Sesiones!$A:$A,A9,Sesiones!$C:$C,"Hecha")+COUNTIFS(Sesiones!$A:$A,A9,Sesiones!$C:$C,"Falta sin avisar")) | K9: =IF(OR(A9="",D9=""),"",D9-J9)
I10: =IF(A10="","",MAX(0,G10-H10)) | J10: =IF(A10="","",COUNTIFS(Sesiones!$A:$A,A10,Sesiones!$C:$C,"Hecha")+COUNTIFS(Sesiones!$A:$A,A10,Sesiones!$C:$C,"Falta sin avisar")) | K10: =IF(OR(A10="",D10=""),"",D10-J10)
I11: =IF(A11="","",MAX(0,G11-H11)) | J11: =IF(A11="","",COUNTIFS(Sesiones!$A:$A,A11,Sesiones!$C:$C,"Hecha")+COUNTIFS(Sesiones!$A:$A,A11,Sesiones!$C:$C,"Falta sin avisar")) | K11: =IF(OR(A11="",D11=""),"",D11-J11)
I12: =IF(A12="","",MAX(0,G12-H12)) | J12: =IF(A12="","",COUNTIFS(Sesiones!$A:$A,A12,Sesiones!$C:$C,"Hecha")+COUNTIFS(Sesiones!$A:$A,A12,Sesiones!$C:$C,"Falta sin avisar")) | K12: =IF(OR(A12="",D12=""),"",D12-J12)
I13: =IF(A13="","",MAX(0,G13-H13)) | J13: =IF(A13="","",COUNTIFS(Sesiones!$A:$A,A13,Sesiones!$C:$C,"Hecha")+COUNTIFS(Sesiones!$A:$A,A13,Sesiones!$C:$C,"Falta sin avisar")) | K13: =IF(OR(A13="",D13=""),"",D13-J13)
I14: =IF(A14="","",MAX(0,G14-H14)) | J14: =IF(A14="","",COUNTIFS(Sesiones!$A:$A,A14,Sesiones!$C:$C,"Hecha")+COUNTIFS(Sesiones!$A:$A,A14,Sesiones!$C:$C,"Falta sin avisar")) | K14: =IF(OR(A14="",D14=""),"",D14-J14)
I15: =IF(A15="","",MAX(0,G15-H15)) | J15: =IF(A15="","",COUNTIFS(Sesiones!$A:$A,A15,Sesiones!$C:$C,"Hecha")+COUNTIFS(Sesiones!$A:$A,A15,Sesiones!$C:$C,"Falta sin avisar")) | K15: =IF(OR(A15="",D15=""),"",D15-J15)
I16: =IF(A16="","",MAX(0,G16-H16)) | J16: =IF(A16="","",COUNTIFS(Sesiones!$A:$A,A16,Sesiones!$C:$C,"Hecha")+COUNTIFS(Sesiones!$A:$A,A16,Sesiones!$C:$C,"Falta sin avisar")) | K16: =IF(OR(A16="",D16=""),"",D16-J16)
... I1000: =IF(A1000="","",MAX(0,G1000-H1000)) | J1000: =IF(A1000="","",COUNTIFS(Sesiones!$A:$A,A1000,Sesiones!$C:$C,"Hecha")+COUNTIFS(Sesiones!$A:$A,A1000,Sesiones!$C:$C,"Falta sin avisar")) | K1000: =IF(OR(A1000="",D1000=""),"",D1000-J1000)

Sheet Sesiones
A1: Bono nº | B1: Fecha | C1: Estado | D1: Notas
A2: B-001 | B2: 46268 | C2: Hecha | D2: Ejemplo
A3: B-001 | B3: 46275 | C3: Hecha | D3: Ejemplo
A4: B-001 | B4: 46282 | C4: Cancelada a tiempo | D4: Ejemplo
A5: B-002 | B5: 46277 | C5: Hecha | D5: Ejemplo
A6: B-002 | B6: 46284 | C6: Falta sin avisar | D6: Ejemplo
A7: B-003 | B7: 46285 | C7: Hecha | D7: Ejemplo
